BEGIN:VCALENDAR
VERSION:2.0
PRODID:-//Francesco Mattonai - ECPv4.9.13//NONSGML v1.0//EN
CALSCALE:GREGORIAN
METHOD:PUBLISH
X-WR-CALNAME:Francesco Mattonai
X-ORIGINAL-URL:https://francescomattonai.it
X-WR-CALDESC:Eventi per Francesco Mattonai
BEGIN:VTIMEZONE
TZID:Europe/Rome
BEGIN:DAYLIGHT
TZOFFSETFROM:+0100
TZOFFSETTO:+0200
TZNAME:CEST
DTSTART:20200329T010000
END:DAYLIGHT
BEGIN:STANDARD
TZOFFSETFROM:+0200
TZOFFSETTO:+0100
TZNAME:CET
DTSTART:20201025T010000
END:STANDARD
END:VTIMEZONE
BEGIN:VEVENT
DTSTART;VALUE=DATE:20200118
DTEND;VALUE=DATE:20200119
DTSTAMP:20260421T115816
CREATED:20191124T151624Z
LAST-MODIFIED:20191204T170847Z
UID:328-1579305600-1579391999@francescomattonai.it
SUMMARY:Gibsy - debutto nazionale
DESCRIPTION:Una produzione Teatro delle stanze\ndi Francesco Mattonai\ncon Mirko Batoni\, Diego Conforti\, Alessandra Niccolini. \nMirko\, da sempre affascinato alle storie dei popoli rom ha iniziato a raccontarmi le vicende di vari personaggi\, per convincermi a portarne una in scena. C’è infine riuscito con questo pugile atipico e affascinante\, che mi porta per la seconda volta nella Germania degli anni ’20. \nLa vita del pugile Sinti tedesco Johann Trollmann riprende vita nella mia prima collaborazione come autore e regista col teatro delle stanze. Il debutto al teatro di Marcialla nel Gennaio 2020. \n
URL:https://francescomattonai.it/spettacolo/gibsy-debutto-nazionale/
LOCATION:Teatro Regina Margherita Marcialla\, Via Amelindo Mori\, 24\, Marcialla\, 50021\, Italia
CATEGORIES:Teatro di prosa
ATTACH;FMTTYPE=image/jpeg:https://francescomattonai.it/wp-content/uploads/2019/11/gibsy.jpg
END:VEVENT
END:VCALENDAR